BEGIN:VCALENDAR
VERSION:2.0
PRODID:-//Tukios.com/
BEGIN:VEVENT
UID:b257557a-093e-4055-ac0b-8870f211f4ee@www.davenportfamily.com
DTSTAMP:20260425T003204Z
DTSTART:20260506T150000Z
DTEND:20260506T160000Z
SUMMARY:Mass
DESCRIPTION:
URL:https://www.davenportfamily.com/obituaries/antoinette-toni-bellm
LOCATION: 10307 Dundee-Huntley Rd  Huntley IL 60142
GEO:42.1560556;-88.3975684
END:VEVENT
END:VCALENDAR