BEGIN:VCALENDAR
VERSION:2.0
PRODID:-//Tukios.com/
BEGIN:VEVENT
UID:90f4cdeb-1326-4e41-813f-7c2c304c1f9b@www.davenportfamily.com
DTSTAMP:20260421T214927Z
DTSTART:20260423T163000Z
DTEND:20260423T173000Z
SUMMARY:Funeral Service
DESCRIPTION:
URL:https://www.davenportfamily.com/obituaries/jeffrey-cave
LOCATION: 580 Tracy Trail  Crystal Lake IL 60014
GEO:42.2290946;-88.2994763
END:VEVENT
END:VCALENDAR