BEGIN:VCALENDAR
VERSION:2.0
PRODID:-//Tukios.com/
BEGIN:VEVENT
UID:ef24e977-d32d-43d5-9740-58e890d817b2@www.davenportfamily.com
DTSTAMP:20260421T215653Z
DTSTART:20260423T143000Z
DTEND:20260423T163000Z
SUMMARY:Visitation
DESCRIPTION:
URL:https://www.davenportfamily.com/obituaries/jeffrey-cave
LOCATION:Harvest Bible Chapel 580 Tracy Trail  Crystal Lake IL 60014
GEO:42.2290946;-88.2994763
END:VEVENT
END:VCALENDAR