BEGIN:VCALENDAR
VERSION:2.0
PRODID:-//Tukios.com/
BEGIN:VEVENT
UID:cc656030-4fe4-452b-b175-1a2b5e959927@www.davenportfamily.com
DTSTAMP:20260421T215653Z
DTSTART:20260423T163000Z
DTEND:20260423T173000Z
SUMMARY:Burial
DESCRIPTION:
URL:https://www.davenportfamily.com/obituaries/jeffrey-cave
LOCATION:Windridge Memorial Park  7014 South Rawson Bridge Road  Cary IL 
	60013
GEO:42.2237031;-88.2139664
END:VEVENT
END:VCALENDAR