BEGIN:VCALENDAR
VERSION:2.0
PRODID:-//Tukios.com/
BEGIN:VEVENT
UID:14790b00-f7e4-4fbb-b056-2e2609ca2c22@www.davenportfamily.com
DTSTAMP:20260420T175751Z
DTSTART:20260423T220000Z
DTEND:20260424T010000Z
SUMMARY:Celebration of Life
DESCRIPTION:
URL:https://www.davenportfamily.com/obituaries/kevin-donohue
LOCATION:D.C. Cobbs Restaurant 11808 Coral Street  Huntley IL 60142
GEO:42.1689544;-88.4270869
END:VEVENT
END:VCALENDAR